BEGIN:VCALENDAR
VERSION:2.0
PRODID:-//New Students and Family Programs - ECPv6.15.17.1//NONSGML v1.0//EN
CALSCALE:GREGORIAN
METHOD:PUBLISH
X-WR-CALNAME:New Students and Family Programs
X-ORIGINAL-URL:https://nsfp.unc.edu
X-WR-CALDESC:Events for New Students and Family Programs
REFRESH-INTERVAL;VALUE=DURATION:PT1H
X-Robots-Tag:noindex
X-PUBLISHED-TTL:PT1H
BEGIN:VTIMEZONE
TZID:America/New_York
BEGIN:DAYLIGHT
TZOFFSETFROM:-0500
TZOFFSETTO:-0400
TZNAME:EDT
DTSTART:20250309T070000
END:DAYLIGHT
BEGIN:STANDARD
TZOFFSETFROM:-0400
TZOFFSETTO:-0500
TZNAME:EST
DTSTART:20251102T060000
END:STANDARD
BEGIN:DAYLIGHT
TZOFFSETFROM:-0500
TZOFFSETTO:-0400
TZNAME:EDT
DTSTART:20260308T070000
END:DAYLIGHT
BEGIN:STANDARD
TZOFFSETFROM:-0400
TZOFFSETTO:-0500
TZNAME:EST
DTSTART:20261101T060000
END:STANDARD
BEGIN:DAYLIGHT
TZOFFSETFROM:-0500
TZOFFSETTO:-0400
TZNAME:EDT
DTSTART:20270314T070000
END:DAYLIGHT
BEGIN:STANDARD
TZOFFSETFROM:-0400
TZOFFSETTO:-0500
TZNAME:EST
DTSTART:20271107T060000
END:STANDARD
END:VTIMEZONE
BEGIN:VEVENT
DTSTART;VALUE=DATE:20260608
DTEND;VALUE=DATE:20260815
DTSTAMP:20260419T203152
CREATED:20260410T012017Z
LAST-MODIFIED:20260410T012017Z
UID:4421-1780876800-1786751999@nsfp.unc.edu
SUMMARY:New Student & Family Orientation
DESCRIPTION:All new undergraduate students are required to attend Orientation to get the brightest start of all at Carolina! Orientation also features optional parent and family programming so students’ biggest supporters can be equipped with great information to help during this new transition. There are several orientation session dates for first-year  and transfer students.
URL:https://nsfp.unc.edu/event/new-student-family-orientation/
END:VEVENT
BEGIN:VEVENT
DTSTART;TZID=America/New_York:20261002T110000
DTEND;TZID=America/New_York:20261002T140000
DTSTAMP:20260419T203152
CREATED:20260410T011501Z
LAST-MODIFIED:20260410T011501Z
UID:4417-1790938800-1790949600@nsfp.unc.edu
SUMMARY:High Fives for Heels
DESCRIPTION:High Fives for Heels is a program where parents and families can volunteer on-campus or remotely by sending supplies that directly benefit studends. Students can stop by for high fives\, fist bumps\, and words of encouragement from volunteer parents. In addition there will free food\, snack\, and beverage giveaways to help students manage their stress and wellbeing as they near final exams. Families and parents can click HERE to learn more about helping give time\, supplies\, or funds to supporting areas. \n 
URL:https://nsfp.unc.edu/event/high-fives-for-heels-2/
LOCATION:The Pit near Davis Library
END:VEVENT
BEGIN:VEVENT
DTSTART;VALUE=DATE:20261024
DTEND;VALUE=DATE:20261025
DTSTAMP:20260419T203152
CREATED:20260304T170022Z
LAST-MODIFIED:20260303T204704Z
UID:4153-1792800000-1792886399@nsfp.unc.edu
SUMMARY:Family Football Day
DESCRIPTION:Each year\, families\, friends and supporters are invited to campus to experience Carolina football. Family Football Day is a great opportunity to cheer on the Tar Heels\, meet other families\, and experience a game day with your student. \nTicket sales begin in the summer – stay tuned on our website and the UNC Family Experience portal for updates as they become available.
URL:https://nsfp.unc.edu/event/family-football-day/
END:VEVENT
END:VCALENDAR